Workbook

Sheet 汇总
A1: 2025年暑期合肥科技职业学院信息工程系实训机房建设招标汇总
A2: 序号 | B2: 项目 | C2: 内容 | D2: 品牌型号 | E2: 数量 | F2: 单位 | G2: 单价 | H2: 合计 | I2: 备注
A3: 一 | B3: 实训机房建设 | C3: 品牌电脑 | E3: 61 | F3: 套 | G3: =SUM(信息系实训室!G4) -> 0 | H3: =E3*G3 -> 0
C4: 双人位操作台 | E4: 30 | F4: 套 | G4: =SUM(信息系实训室!G5) -> 0 | H4: =E4*G4 -> 0
C5: 其他设备 | E5: 1 | F5: 批 | G5: =SUM(信息系实训室!G6) -> 0 | H5: =E5*G5 -> 0
C6: 综合布线 | E6: 1 | F6: 批 | G6: =SUM(信息系实训室!G7) -> 0 | H6: =E6*G6 -> 0
C7: 实训室小计 | E7: 1 | F7: 间 | G7: =SUM(信息系实训室!G15) -> 0 | I7: 信息楼105教室
A8: 二 | B8: 计算机更换 | C8: 品牌电脑 | E8: 29 | F8: 套 | G8: =SUM(信息系实训室!H18) -> 0 | H8: =E8*G8 -> 0 | I8: 图书馆楼计算机网络机房
A9: 投标总价 | G9: =SUM(G7,H8) -> 0 | I9: 元
A11: 综合布线施工要求： （一）布线工艺：地面开槽，线槽嵌入至楼板内，盖板与地面齐平，并做好防水处理。 （二）施工材料： 包含但不限于国标全铜芯六类双绞线、六类网络水晶头、国标三色电源线、纯无氧铜国标音频线、多用插排等配件。 1.线材品牌：网线、水晶头：安普/一舟/海康，电缆线：绿宝（三色线），插排/面板：公牛，音视频材料：秋叶原/绿联/山泽。 2.线槽规格：地面线槽（不锈钢）：线槽厚度1.5mm，盖板厚度2.0mm；墙面线槽（PVC）：厚度1.2mm，螺丝固定至墙面。

Sheet 信息系实训室
A1: 2025年暑期合肥科技职业学院信息工程系实训机房建设招标设备清单
A2: 一、实训机房建设
A3: 序号 | B3: 物资 | C3: 品牌型号 | D3: 配置参数 | E3: 数量 | F3: 单位 | G3: 单价 | H3: 合计 | I3: 备注
A4: 1 | B4: 品牌电脑 | D4: CPU：14代酷睿I5， 内存：32GB， 硬盘：1TB NVME固态硬盘， 显示器：23.8英寸窄边框IPS屏， 机箱：20-30L塔式， 标配键鼠等，显卡和显示器均具备HDMI接口， 具备网络同传和系统还原、系统维护功能。 | E4: 61 | F4: 套 | H4: =E4*G4 -> 0 | I4: 一线品牌
A5: 2 | B5: 操作台 | D5: 双人位电脑操作台 结构：钢木结构（木制面板配钢架），钢管厚度：1.2mm； 面板材质：双饰面颗粒板（E1），厚度：25mm； 尺寸：长度：1500mm，宽度：600mm，高度：750mm； 操作台台面上方前端安装横向挡板； 操作台与地面固定安装。 | E5: 30 | F5: 张 | H5: =E5*G5 -> 0
A6: 3 | B6: 方凳 | D6: 结构：钢木结构（木制面板配钢架），钢管厚度：1.2mm； 面板材质：双饰面颗粒板（E1），厚度：25mm； 尺寸：长度：34mm，宽度：24mm，高度：43mm。 | E6: 61 | F6: 张 | H6: =E6*G6 -> 0
A7: 4 | B7: 中控讲台 | D7: 钢制中控讲台： 一、外形参考尺寸(长*宽*高): 1200*700*900mm； 二、结构： 1. 钢制结构（主体钢结构，木纹表面）； 2. 显示器钢罩背部须高出桌面约30厘米，夹角约40度； 3. 可安装24英寸液晶显示器。 | E7: 1 | F7: 张 | H7: =E7*G7 -> 0
A8: 5 | B8: 中控 | D8: 1. 一键开关所有多媒体设备、计算机等； 2. 采用一体化结构设计，方便安装、维护； 3. 设备电源输出具有延时断电功能； 4. 内置一线品牌投影机、液晶大屏控制码，无需写码，永不丢码； 前置笔记本VGA、HDMI、音频、话筒、网络、USB、220V电源输出等接口。 | E8: 1 | F8: 台 | H8: =E8*G8 -> 0 | I8: 型号：鹏畅 P2000H
A9: 6 | B9: 功放 | D9: DSP全数字混响； 调音台式不低于二路话筒输入，每路混响、高中低音可独立可调，LED显示； 灵敏度：-60dBm~20dBm 频率响应：20Hz~20KHz 输出功率：2×200W | E9: 1 | F9: 台 | H9: =E9*G9 -> 0 | I9: 参考
A10: 7 | B10: 音箱 | D10: 额定功率：100W，最大功率:200W 频率响应(-10dB)：48Hz-20KHz 声压级：118dB 额定阻抗：8Ω 灵敏度：89±3dB(1W/1M) | E10: 1 | F10: 对 | H10: =E10*G10 -> 0 | I10: 参考
A11: 8 | B11: 鹅颈式话筒 | D11: 供电方式：幻像48V 和DC 频率响应：100Hz-16KHz 灵敏感度：-42dB/±3dB（1KHz） 低频衰减：125Hz 6dB/OCTAVE 输出阻抗：200Ω 信噪比：65dB.1KHz at 1Pa 拾音距离:30-50cm | E11: 1 | F11: 只 | H11: =E11*G11 -> 0 | I11: 参考
A12: 9 | B12: 千兆路由器 | D12: 5个千兆电口(4WAN/1LAN),1个USB端口，支持200兆带宽，不低于100个终端同时连接。 | E12: 1 | F12: 台 | H12: =E12*G12 -> 0
A13: 10 | B13: 千兆交换机 | D13: 24个电口，上下行端口速率：千兆，以太网网管交换机，标准机架型。 | E13: 3 | F13: 台 | H13: =E13*G13 -> 0
A14: 11 | B14: 综合布线 | D14: 包含但不限于强弱电综合布线、辅材、配电箱、机柜、人工等费用 | E14: 1 | F14: 批 | H14: =E14*G14 -> 0
A15: 新建实训机房小计 | C15: 地点：信息楼105教室 | G15: =SUM(H4:H14) -> 0
A16: 二、计算机更换
A17: 序号 | B17: 物资 | C17: 品牌型号 | D17: 配置参数 | E17: 数量 | F17: 单位 | G17: 单价 | H17: 合计 | I17: 备注
A18: 1 | B18: 品牌电脑 | D18: CPU：14代酷睿I5， 内存：32GB， 硬盘：1TB NVME固态硬盘， 显示器：23.8英寸窄边框IPS屏， 机箱：20-30L塔式， 标配键鼠等，显卡和显示器均具备HDMI接口， 具备网络同传和系统还原、系统维护功能。 | E18: 29 | F18: 套 | H18: =E18*G18 -> 0 | I18: 一线品牌
A19: 计算机更换小计 | C19: 地点：图书馆楼计算机网络机房 | G19: =SUM(H9:H18) -> 0
A20: 项目总计（元） | G20: =SUM(G15,G19) -> 0
